Package: BiSeq Version: 1.42.0 Command: /Library/Frameworks/R.framework/Resources/bin/R CMD build --keep-empty-dirs --no-resave-data BiSeq StartedAt: 2024-03-03 16:03:57 -0500 (Sun, 03 Mar 2024) EndedAt: 2024-03-03 16:06:17 -0500 (Sun, 03 Mar 2024) EllapsedTime: 140.5 seconds RetCode: 0 Status: OK PackageFile: BiSeq_1.42.0.tar.gz PackageFileSize: 915.4 KiB