Package: BiSeq Version: 1.42.0 Command: /Library/Frameworks/R.framework/Resources/bin/R CMD INSTALL BiSeq StartedAt: 2024-03-03 15:34:27 -0500 (Sun, 03 Mar 2024) EndedAt: 2024-03-03 15:35:25 -0500 (Sun, 03 Mar 2024) EllapsedTime: 57.7 seconds RetCode: 0 Status: OK