Package: BiSeq Version: 1.42.0 Command: /Library/Frameworks/R.framework/Resources/bin/R CMD build --keep-empty-dirs --no-resave-data BiSeq StartedAt: 2024-04-15 17:18:49 -0400 (Mon, 15 Apr 2024) EndedAt: 2024-04-15 17:23:23 -0400 (Mon, 15 Apr 2024) EllapsedTime: 274.7 seconds RetCode: 0 Status: OK PackageFile: BiSeq_1.42.0.tar.gz PackageFileSize: 915.3 KiB