Package: BiSeq Version: 1.42.0 Command: /home/biocbuild/bbs-3.18-bioc/R/bin/R CMD check --install=check:BiSeq.install-out.txt --library=/home/biocbuild/bbs-3.18-bioc/R/site-library --timings BiSeq_1.42.0.tar.gz StartedAt: 2024-04-15 20:38:59 -0400 (Mon, 15 Apr 2024) EndedAt: 2024-04-15 20:46:16 -0400 (Mon, 15 Apr 2024) EllapsedTime: 436.7 seconds RetCode: 0 Status: OK CheckDir: BiSeq.Rcheck Warnings: 0