Package: BiSeq Version: 1.42.0 Command: /home/biocbuild/bbs-3.18-bioc/R/bin/R CMD INSTALL BiSeq StartedAt: 2024-04-15 15:38:50 -0400 (Mon, 15 Apr 2024) EndedAt: 2024-04-15 15:39:32 -0400 (Mon, 15 Apr 2024) EllapsedTime: 41.4 seconds RetCode: 0 Status: OK