Package: BiSeq Version: 1.42.0 Command: rm -rf BiSeq.buildbin-libdir && mkdir BiSeq.buildbin-libdir && F:\biocbuild\bbs-3.18-bioc\R\bin\R.exe CMD INSTALL --build --library=BiSeq.buildbin-libdir BiSeq_1.42.0.tar.gz StartedAt: 2024-04-16 06:43:29 -0400 (Tue, 16 Apr 2024) EndedAt: 2024-04-16 06:44:29 -0400 (Tue, 16 Apr 2024) EllapsedTime: 59.7 seconds RetCode: 0 Status: OK PackageFile: BiSeq_1.42.0.zip PackageFileSize: 1.16 MiB