Package: BiSeq Version: 1.42.0 Command: chmod a+r BiSeq -R && F:\biocbuild\bbs-3.18-bioc\R\bin\R.exe CMD build --keep-empty-dirs --no-resave-data BiSeq StartedAt: 2024-04-15 17:19:28 -0400 (Mon, 15 Apr 2024) EndedAt: 2024-04-15 17:21:51 -0400 (Mon, 15 Apr 2024) EllapsedTime: 143.3 seconds RetCode: 0 Status: OK PackageFile: BiSeq_1.42.0.tar.gz PackageFileSize: 918 KiB