Package: BioCartaImage Version: 1.0.0 Maintainer: Zuguang Gu MaintainerEmail: z.gu at dkfz.de git_url: https://git.bioconductor.org/packages/BioCartaImage git_branch: RELEASE_3_18 git_last_commit: 1de1112 git_last_commit_date: 2023-10-24 11:51:56 -0400 (Tue, 24 Oct 2023)