Package: BioCartaImage Version: 1.0.0 Command: rm -rf BioCartaImage.buildbin-libdir && mkdir BioCartaImage.buildbin-libdir && /Users/biocbuild/BBS/utils/build-universal.sh BioCartaImage_1.0.0.tar.gz /Library/Frameworks/R.framework/Resources/bin/R BioCartaImage.buildbin-libdir StartedAt: 2024-04-16 11:05:05 -0400 (Tue, 16 Apr 2024) EndedAt: 2024-04-16 11:05:16 -0400 (Tue, 16 Apr 2024) EllapsedTime: 10.4 seconds RetCode: 0 Status: OK PackageFile: BioCartaImage_1.0.0.tgz PackageFileSize: 3.664 MiB