Package: BioNERO Version: 1.10.3 Command: /home/biocbuild/bbs-3.18-bioc/R/bin/R CMD INSTALL BioNERO StartedAt: 2024-04-15 15:45:26 -0400 (Mon, 15 Apr 2024) EndedAt: 2024-04-15 15:46:02 -0400 (Mon, 15 Apr 2024) EllapsedTime: 36.7 seconds RetCode: 0 Status: OK