Package: BioNet Version: 1.62.0 Command: /home/biocbuild/bbs-3.18-bioc/R/bin/R CMD build --keep-empty-dirs --no-resave-data BioNet StartedAt: 2024-04-15 16:12:51 -0400 (Mon, 15 Apr 2024) EndedAt: 2024-04-15 16:13:42 -0400 (Mon, 15 Apr 2024) EllapsedTime: 50.9 seconds RetCode: 0 Status: OK PackageFile: BioNet_1.62.0.tar.gz PackageFileSize: 1.609 MiB