Package: BioNet Version: 1.62.0 Command: chmod a+r BioNet -R && F:\biocbuild\bbs-3.18-bioc\R\bin\R.exe CMD build --keep-empty-dirs --no-resave-data BioNet StartedAt: 2024-04-15 17:16:44 -0400 (Mon, 15 Apr 2024) EndedAt: 2024-04-15 17:19:40 -0400 (Mon, 15 Apr 2024) EllapsedTime: 175.7 seconds RetCode: 0 Status: OK PackageFile: BioNet_1.62.0.tar.gz PackageFileSize: 1.613 MiB