Package: BiocBaseUtils Version: 1.4.0 Command: rm -rf BiocBaseUtils.buildbin-libdir && mkdir BiocBaseUtils.buildbin-libdir && /Users/biocbuild/BBS/utils/build-universal.sh BiocBaseUtils_1.4.0.tar.gz /Library/Frameworks/R.framework/Resources/bin/R BiocBaseUtils.buildbin-libdir StartedAt: 2024-04-16 11:05:07 -0400 (Tue, 16 Apr 2024) EndedAt: 2024-04-16 11:05:13 -0400 (Tue, 16 Apr 2024) EllapsedTime: 5.3 seconds RetCode: 0 Status: OK PackageFile: BiocBaseUtils_1.4.0.tgz PackageFileSize: 236.4 KiB