Package: BiocFileCache Version: 2.10.1 Command: /Library/Frameworks/R.framework/Resources/bin/R CMD build --keep-empty-dirs --no-resave-data BiocFileCache StartedAt: 2024-03-03 16:00:49 -0500 (Sun, 03 Mar 2024) EndedAt: 2024-03-03 16:02:00 -0500 (Sun, 03 Mar 2024) EllapsedTime: 71.2 seconds RetCode: 0 Status: OK PackageFile: BiocFileCache_2.10.1.tar.gz PackageFileSize: 292.4 KiB