Package: BiocFileCache Version: 2.10.1 Command: /Library/Frameworks/R.framework/Resources/bin/R CMD check --install=check:BiocFileCache.install-out.txt --library=/Library/Frameworks/R.framework/Resources/library --no-vignettes --timings BiocFileCache_2.10.1.tar.gz StartedAt: 2024-03-03 19:11:47 -0500 (Sun, 03 Mar 2024) EndedAt: 2024-03-03 19:13:21 -0500 (Sun, 03 Mar 2024) EllapsedTime: 94.4 seconds RetCode: 0 Status: OK CheckDir: BiocFileCache.Rcheck Warnings: 0