Package: BiocNeighbors Version: 1.20.0 Command: /home/biocbuild/R/R-4.3.1/bin/R CMD build --keep-empty-dirs --no-resave-data BiocNeighbors StartedAt: 2023-11-01 22:40:14 -0000 (Wed, 01 Nov 2023) EndedAt: 2023-11-01 22:44:42 -0000 (Wed, 01 Nov 2023) EllapsedTime: 268.4 seconds RetCode: 0 Status: OK PackageFile: BiocNeighbors_1.20.0.tar.gz PackageFileSize: 1.184 MiB