Package: BiocNeighbors Version: 1.20.2 Command: /Library/Frameworks/R.framework/Resources/bin/R CMD INSTALL BiocNeighbors StartedAt: 2024-03-03 15:12:04 -0500 (Sun, 03 Mar 2024) EndedAt: 2024-03-03 15:14:23 -0500 (Sun, 03 Mar 2024) EllapsedTime: 139.5 seconds RetCode: 0 Status: OK