Package: BiocOncoTK Version: 1.22.0 Command: /home/biocbuild/R/R-4.3.1/bin/R CMD build --keep-empty-dirs --no-resave-data BiocOncoTK StartedAt: 2023-11-01 22:40:24 -0000 (Wed, 01 Nov 2023) EndedAt: 2023-11-01 22:42:29 -0000 (Wed, 01 Nov 2023) EllapsedTime: 125.2 seconds RetCode: 0 Status: OK PackageFile: BiocOncoTK_1.22.0.tar.gz PackageFileSize: 9.734 MiB