Package: BiocOncoTK Version: 1.22.2 Command: rm -rf BiocOncoTK.buildbin-libdir && mkdir BiocOncoTK.buildbin-libdir && F:\biocbuild\bbs-3.18-bioc\R\bin\R.exe CMD INSTALL --build --library=BiocOncoTK.buildbin-libdir BiocOncoTK_1.22.2.tar.gz StartedAt: 2024-04-11 06:42:08 -0400 (Thu, 11 Apr 2024) EndedAt: 2024-04-11 06:43:17 -0400 (Thu, 11 Apr 2024) EllapsedTime: 68.2 seconds RetCode: 0 Status: OK PackageFile: BiocOncoTK_1.22.2.zip PackageFileSize: 7.879 MiB