Package: BiocOncoTK Version: 1.22.2 Command: F:\biocbuild\bbs-3.18-bioc\R\bin\R.exe CMD INSTALL BiocOncoTK StartedAt: 2024-04-15 16:46:56 -0400 (Mon, 15 Apr 2024) EndedAt: 2024-04-15 16:48:05 -0400 (Mon, 15 Apr 2024) EllapsedTime: 68.9 seconds RetCode: 0 Status: OK