Package: BiocParallel Version: 1.36.0 Command: /home/biocbuild/R/R-4.3.1/bin/R CMD build --keep-empty-dirs --no-resave-data BiocParallel StartedAt: 2023-11-01 22:40:30 -0000 (Wed, 01 Nov 2023) EndedAt: 2023-11-01 22:42:54 -0000 (Wed, 01 Nov 2023) EllapsedTime: 144.2 seconds RetCode: 0 Status: OK PackageFile: BiocParallel_1.36.0.tar.gz PackageFileSize: 1009 KiB