Package: BiocParallel Version: 1.36.0 Command: /Library/Frameworks/R.framework/Resources/bin/R CMD build --keep-empty-dirs --no-resave-data BiocParallel StartedAt: 2024-04-15 17:12:25 -0400 (Mon, 15 Apr 2024) EndedAt: 2024-04-15 17:16:34 -0400 (Mon, 15 Apr 2024) EllapsedTime: 248.3 seconds RetCode: 0 Status: OK PackageFile: BiocParallel_1.36.0.tar.gz PackageFileSize: 972.4 KiB