Package: BiocSklearn Version: 1.23.0 Command: /home/biocbuild/R/R-4.3.1/bin/R CMD check --install=check:BiocSklearn.install-out.txt --library=/home/biocbuild/R/R-4.3.1/site-library --timings BiocSklearn_1.23.0.tar.gz StartedAt: 2023-06-30 01:51:58 -0000 (Fri, 30 Jun 2023) EndedAt: 2023-06-30 01:56:05 -0000 (Fri, 30 Jun 2023) EllapsedTime: 247.5 seconds RetCode: 0 Status: OK CheckDir: BiocSklearn.Rcheck Warnings: 0