Package: BrowserViz Version: 2.24.0 Command: /home/biocbuild/R/R-4.3.1/bin/R CMD INSTALL BrowserViz StartedAt: 2023-11-01 20:09:42 -0000 (Wed, 01 Nov 2023) EndedAt: 2023-11-01 20:10:15 -0000 (Wed, 01 Nov 2023) EllapsedTime: 32.7 seconds RetCode: 0 Status: OK