Package: BrowserViz Version: 2.24.0 Command: /home/biocbuild/bbs-3.18-bioc/R/bin/R CMD check --install=check:BrowserViz.install-out.txt --library=/home/biocbuild/bbs-3.18-bioc/R/site-library --timings BrowserViz_2.24.0.tar.gz StartedAt: 2024-04-15 20:45:56 -0400 (Mon, 15 Apr 2024) EndedAt: 2024-04-15 20:46:22 -0400 (Mon, 15 Apr 2024) EllapsedTime: 26.3 seconds RetCode: 0 Status: OK CheckDir: BrowserViz.Rcheck Warnings: 0