Package: CAFE Version: 1.38.0 Command: rm -rf CAFE.buildbin-libdir && mkdir CAFE.buildbin-libdir && F:\biocbuild\bbs-3.18-bioc\R\bin\R.exe CMD INSTALL --build --library=CAFE.buildbin-libdir CAFE_1.38.0.tar.gz StartedAt: 2024-04-16 06:44:52 -0400 (Tue, 16 Apr 2024) EndedAt: 2024-04-16 06:46:02 -0400 (Tue, 16 Apr 2024) EllapsedTime: 69.8 seconds RetCode: 0 Status: OK PackageFile: CAFE_1.38.0.zip PackageFileSize: 4.691 MiB