Package: CARNIVAL Version: 2.12.0 Command: /home/biocbuild/R/R-4.3.1/bin/R CMD build --keep-empty-dirs --no-resave-data CARNIVAL StartedAt: 2023-11-01 23:01:24 -0000 (Wed, 01 Nov 2023) EndedAt: 2023-11-01 23:01:35 -0000 (Wed, 01 Nov 2023) EllapsedTime: 11.0 seconds RetCode: 0 Status: OK PackageFile: CARNIVAL_2.12.0.tar.gz PackageFileSize: 2.047 MiB