Package: CATALYST Version: 1.26.0 Command: /home/biocbuild/R/R-4.3.1/bin/R CMD INSTALL CATALYST StartedAt: 2023-11-01 21:00:32 -0000 (Wed, 01 Nov 2023) EndedAt: 2023-11-01 21:01:26 -0000 (Wed, 01 Nov 2023) EllapsedTime: 54.2 seconds RetCode: 0 Status: OK