Package: CATALYST Version: 1.26.1 Command: chmod a+r CATALYST -R && F:\biocbuild\bbs-3.18-bioc\R\bin\R.exe CMD build --keep-empty-dirs --no-resave-data CATALYST StartedAt: 2024-04-15 17:26:08 -0400 (Mon, 15 Apr 2024) EndedAt: 2024-04-15 17:31:20 -0400 (Mon, 15 Apr 2024) EllapsedTime: 312.6 seconds RetCode: 0 Status: OK PackageFile: CATALYST_1.26.1.tar.gz PackageFileSize: 6.757 MiB