Package: CBEA Version: 1.2.0 Command: rm -rf CBEA.buildbin-libdir && mkdir CBEA.buildbin-libdir && F:\biocbuild\bbs-3.18-bioc\R\bin\R.exe CMD INSTALL --build --library=CBEA.buildbin-libdir CBEA_1.2.0.tar.gz StartedAt: 2024-04-16 06:45:36 -0400 (Tue, 16 Apr 2024) EndedAt: 2024-04-16 06:46:38 -0400 (Tue, 16 Apr 2024) EllapsedTime: 61.9 seconds RetCode: 0 Status: OK PackageFile: CBEA_1.2.0.zip PackageFileSize: 2.498 MiB