Package: CBEA Version: 1.2.0 Command: chmod a+r CBEA -R && F:\biocbuild\bbs-3.18-bioc\R\bin\R.exe CMD build --keep-empty-dirs --no-resave-data CBEA StartedAt: 2024-04-15 17:26:40 -0400 (Mon, 15 Apr 2024) EndedAt: 2024-04-15 17:28:08 -0400 (Mon, 15 Apr 2024) EllapsedTime: 88.1 seconds RetCode: 0 Status: OK PackageFile: CBEA_1.2.0.tar.gz PackageFileSize: 2.089 MiB