Package: CBNplot Version: 1.2.1 Command: /Library/Frameworks/R.framework/Resources/bin/R CMD build --keep-empty-dirs --no-resave-data CBNplot StartedAt: 2024-03-03 16:09:16 -0500 (Sun, 03 Mar 2024) EndedAt: 2024-03-03 16:13:50 -0500 (Sun, 03 Mar 2024) EllapsedTime: 273.9 seconds RetCode: 0 Status: OK PackageFile: CBNplot_1.2.1.tar.gz PackageFileSize: 2.381 MiB