Package: CBNplot Version: 1.2.1 Command: /Library/Frameworks/R.framework/Resources/bin/R CMD INSTALL CBNplot StartedAt: 2024-03-03 15:45:53 -0500 (Sun, 03 Mar 2024) EndedAt: 2024-03-03 15:46:36 -0500 (Sun, 03 Mar 2024) EllapsedTime: 43.7 seconds RetCode: 0 Status: OK