Package: CBNplot Version: 1.2.1 Command: rm -rf CBNplot.buildbin-libdir && mkdir CBNplot.buildbin-libdir && /Users/biocbuild/BBS/utils/build-universal.sh CBNplot_1.2.1.tar.gz /Library/Frameworks/R.framework/Resources/bin/R CBNplot.buildbin-libdir StartedAt: 2024-04-16 11:10:37 -0400 (Tue, 16 Apr 2024) EndedAt: 2024-04-16 11:12:07 -0400 (Tue, 16 Apr 2024) EllapsedTime: 90.2 seconds RetCode: 0 Status: OK PackageFile: CBNplot_1.2.1.tgz PackageFileSize: 2.704 MiB