Package: CBNplot Version: 1.2.1 Command: /Library/Frameworks/R.framework/Resources/bin/R CMD build --keep-empty-dirs --no-resave-data CBNplot StartedAt: 2024-04-15 17:29:21 -0400 (Mon, 15 Apr 2024) EndedAt: 2024-04-15 17:37:51 -0400 (Mon, 15 Apr 2024) EllapsedTime: 509.6 seconds RetCode: 0 Status: OK PackageFile: CBNplot_1.2.1.tar.gz PackageFileSize: 2.564 MiB