Package: CBNplot Version: 1.2.1 Command: /Library/Frameworks/R.framework/Resources/bin/R CMD INSTALL CBNplot StartedAt: 2024-04-15 16:42:01 -0400 (Mon, 15 Apr 2024) EndedAt: 2024-04-15 16:43:05 -0400 (Mon, 15 Apr 2024) EllapsedTime: 64.3 seconds RetCode: 0 Status: OK