Package: CBNplot Version: 1.2.1 Command: /home/biocbuild/bbs-3.18-bioc/R/bin/R CMD build --keep-empty-dirs --no-resave-data CBNplot StartedAt: 2024-04-15 16:20:10 -0400 (Mon, 15 Apr 2024) EndedAt: 2024-04-15 16:24:05 -0400 (Mon, 15 Apr 2024) EllapsedTime: 235.4 seconds RetCode: 0 Status: OK PackageFile: CBNplot_1.2.1.tar.gz PackageFileSize: 2.233 MiB