Package: CFAssay Version: 1.36.0 Command: /home/biocbuild/R/R-4.3.1/bin/R CMD check --install=check:CFAssay.install-out.txt --library=/home/biocbuild/R/R-4.3.1/site-library --no-vignettes --timings CFAssay_1.36.0.tar.gz StartedAt: 2023-11-02 09:08:31 -0000 (Thu, 02 Nov 2023) EndedAt: 2023-11-02 09:08:49 -0000 (Thu, 02 Nov 2023) EllapsedTime: 18.0 seconds RetCode: 0 Status: OK CheckDir: CFAssay.Rcheck Warnings: 0