Package: CFAssay Version: 1.36.0 Command: /home/biocbuild/R/R-4.3.1/bin/R CMD INSTALL CFAssay StartedAt: 2023-11-01 20:11:36 -0000 (Wed, 01 Nov 2023) EndedAt: 2023-11-01 20:11:40 -0000 (Wed, 01 Nov 2023) EllapsedTime: 3.6 seconds RetCode: 0 Status: OK