Package: CFAssay Version: 1.36.0 Command: rm -rf CFAssay.buildbin-libdir && mkdir CFAssay.buildbin-libdir && /Users/biocbuild/BBS/utils/build-universal.sh CFAssay_1.36.0.tar.gz /Library/Frameworks/R.framework/Resources/bin/R CFAssay.buildbin-libdir StartedAt: 2024-03-04 00:33:24 -0500 (Mon, 04 Mar 2024) EndedAt: 2024-03-04 00:33:30 -0500 (Mon, 04 Mar 2024) EllapsedTime: 5.7 seconds RetCode: 0 Status: OK PackageFile: CFAssay_1.36.0.tgz PackageFileSize: 397.1 KiB