Package: CFAssay Version: 1.36.0 Command: /Library/Frameworks/R.framework/Resources/bin/R CMD check --install=check:CFAssay.install-out.txt --library=/Library/Frameworks/R.framework/Resources/library --no-vignettes --timings CFAssay_1.36.0.tar.gz StartedAt: 2024-03-03 19:32:34 -0500 (Sun, 03 Mar 2024) EndedAt: 2024-03-03 19:33:02 -0500 (Sun, 03 Mar 2024) EllapsedTime: 28.2 seconds RetCode: 0 Status: OK CheckDir: CFAssay.Rcheck Warnings: 0