Package: CGHcall Version: 2.64.0 Command: rm -rf CGHcall.buildbin-libdir && mkdir CGHcall.buildbin-libdir && /Users/biocbuild/BBS/utils/build-universal.sh CGHcall_2.64.0.tar.gz /Library/Frameworks/R.framework/Resources/bin/R CGHcall.buildbin-libdir StartedAt: 2024-03-04 00:33:27 -0500 (Mon, 04 Mar 2024) EndedAt: 2024-03-04 00:33:38 -0500 (Mon, 04 Mar 2024) EllapsedTime: 10.3 seconds RetCode: 0 Status: OK PackageFile: CGHcall_2.64.0.tgz PackageFileSize: 532.2 KiB