Package: CGHcall Version: 2.64.0 Command: /Library/Frameworks/R.framework/Resources/bin/R CMD check --install=check:CGHcall.install-out.txt --library=/Library/Frameworks/R.framework/Resources/library --no-vignettes --timings CGHcall_2.64.0.tar.gz StartedAt: 2024-03-03 19:33:33 -0500 (Sun, 03 Mar 2024) EndedAt: 2024-03-03 19:34:23 -0500 (Sun, 03 Mar 2024) EllapsedTime: 50.1 seconds RetCode: 0 Status: WARNINGS CheckDir: CGHcall.Rcheck Warnings: 1