Package: CGHcall Version: 2.64.0 Command: /Library/Frameworks/R.framework/Resources/bin/R CMD build --keep-empty-dirs --no-resave-data CGHcall StartedAt: 2024-04-15 17:35:58 -0400 (Mon, 15 Apr 2024) EndedAt: 2024-04-15 17:36:47 -0400 (Mon, 15 Apr 2024) EllapsedTime: 49.3 seconds RetCode: 0 Status: OK PackageFile: CGHcall_2.64.0.tar.gz PackageFileSize: 451.5 KiB