Package: CGHcall Version: 2.64.0 Command: /Library/Frameworks/R.framework/Resources/bin/R CMD check --install=check:CGHcall.install-out.txt --library=/Library/Frameworks/R.framework/Resources/library --no-vignettes --timings CGHcall_2.64.0.tar.gz StartedAt: 2024-04-16 00:33:37 -0400 (Tue, 16 Apr 2024) EndedAt: 2024-04-16 00:34:54 -0400 (Tue, 16 Apr 2024) EllapsedTime: 77.0 seconds RetCode: 0 Status: WARNINGS CheckDir: CGHcall.Rcheck Warnings: 1