Package: CGHcall Version: 2.64.0 Command: /home/biocbuild/bbs-3.18-bioc/R/bin/R CMD build --keep-empty-dirs --no-resave-data CGHcall StartedAt: 2024-04-15 16:25:03 -0400 (Mon, 15 Apr 2024) EndedAt: 2024-04-15 16:25:22 -0400 (Mon, 15 Apr 2024) EllapsedTime: 18.9 seconds RetCode: 0 Status: OK PackageFile: CGHcall_2.64.0.tar.gz PackageFileSize: 338 KiB