Package: CGHcall Version: 2.64.0 Command: rm -rf CGHcall.buildbin-libdir && mkdir CGHcall.buildbin-libdir && F:\biocbuild\bbs-3.18-bioc\R\bin\R.exe CMD INSTALL --build --library=CGHcall.buildbin-libdir CGHcall_2.64.0.tar.gz StartedAt: 2024-04-16 06:47:14 -0400 (Tue, 16 Apr 2024) EndedAt: 2024-04-16 06:47:23 -0400 (Tue, 16 Apr 2024) EllapsedTime: 9.3 seconds RetCode: 0 Status: OK PackageFile: CGHcall_2.64.0.zip PackageFileSize: 420.8 KiB