Package: CINdex Version: 1.30.0 Command: /home/biocbuild/R/R-4.3.1/bin/R CMD build --keep-empty-dirs --no-resave-data CINdex StartedAt: 2023-11-01 23:29:41 -0000 (Wed, 01 Nov 2023) EndedAt: 2023-11-01 23:34:25 -0000 (Wed, 01 Nov 2023) EllapsedTime: 283.8 seconds RetCode: 0 Status: OK PackageFile: CINdex_1.30.0.tar.gz PackageFileSize: 12.55 MiB