Package: CINdex Version: 1.30.0 Command: /home/biocbuild/bbs-3.18-bioc/R/bin/R CMD check --install=check:CINdex.install-out.txt --library=/home/biocbuild/bbs-3.18-bioc/R/site-library --timings CINdex_1.30.0.tar.gz StartedAt: 2024-04-15 21:13:23 -0400 (Mon, 15 Apr 2024) EndedAt: 2024-04-15 21:22:31 -0400 (Mon, 15 Apr 2024) EllapsedTime: 547.6 seconds RetCode: 0 Status: WARNINGS CheckDir: CINdex.Rcheck Warnings: 1