Package: CNEr Version: 1.38.0 Command: /home/biocbuild/R/R-4.3.1/bin/R CMD INSTALL CNEr StartedAt: 2023-11-01 20:23:11 -0000 (Wed, 01 Nov 2023) EndedAt: 2023-11-01 20:24:20 -0000 (Wed, 01 Nov 2023) EllapsedTime: 69.8 seconds RetCode: 0 Status: OK